BEGIN:VCALENDAR
VERSION:2.0
PRODID:-//eventon.com NONSGML v1.0//EN
CALSCALE:GREGORIAN
METHOD:PUBLISH
BEGIN:VEVENT
UID:69ec954e5561f
DTSTAMP:20260425T101958Z
DTSTART:20231220T123000Z
DTEND:20231220T153000Z
LOCATION:House Of Photography
SUMMARY:Photography In Modern Era | Tabriz
DESCRIPTION:Tabriz\, Iran | In this convivial gathering\,  Pooyan Tabatabai
 \,  the esteemed director and photographer of NVP Images in Canada\,  will 
 be joined by his accomplished colleague\,  Jalal Shamsazaran\,  to collecti
 vely impart their vast reservoir of knowledge acquired over 25 years in the
  international arenas of education\,  media\,  news\,  and publishing\,  fr
 om[..]\nhttps://nvpimages.com/events/photography-in-modern-era-tabriz/
URL:https://nvpimages.com/events/photography-in-modern-era-tabriz/
END:VEVENT
END:VCALENDAR